BEGIN:VCALENDAR
VERSION:2.0
PRODID:-//wp-events-plugin.com//7.2.3.1//EN
TZID:America/New_York
X-WR-TIMEZONE:America/New_York
BEGIN:VEVENT
UID:269@hummingbirdhealingcollective.com
DTSTART;TZID=America/New_York:20260512T183000
DTEND;TZID=America/New_York:20260512T193000
DTSTAMP:20260417T171752Z
URL:https://hummingbirdhealingcollective.com/events/drum-circle/
SUMMARY:Drum Circle
DESCRIPTION:Come ignite your primal power and claim your embodied expressio
 n!\n\nAs females\, we are feeling and moving a lot through our bodies coll
 ectively right now. Come give your beating heart and pounding power a plac
 e to flow as you learn how to sync the communication of your body with the
  rhythmic resonance of your drum (or rattle.)\n\nDuring this workshop\, yo
 u will be guided through a brief sharing circle\, intention setting and em
 bodiment practice. Then you will learn how to connect with your own inner 
 earth and let it speak through the expression of your drum. (No drumming e
 xperience needed to attend this class. You must bring your own drum or rat
 tle.)\n\nLet your body be your guide!\n\n&nbsp\;\n\nKrista is a Niasziih H
 ealing Practitioner and Vocal Sound Healer passionate about bringing peopl
 e together through sound\, movement\, contact and healing work.\n\n&nbsp\;
 \n\n*Important Notes About This Event:\n\n1.) This circle is LBGTQ+ inclus
 ive.\n\n2.) In order to protect the safety and integrity of our circle\, t
 his is also a 100% sober space. Please arrive sober (from any and all subs
 tances) and stay sober throughout the event.\n\n3.) Please bring the follo
 wing items with you to this event: your own drum and/or rattle\, water bot
 tle\, a mug for tea\n\n&nbsp\;\n\nThere are only 10 spots available for th
 is event\, so please register in advance to secure your place.\n\n*Must ha
 ve at least 3 participants in order to hold this circle.
ATTACH;FMTTYPE=image/jpeg:https://hummingbirdhealingcollective.com/wp-cont
 ent/uploads/2026/02/Ocean-Drum-scaled.png
CATEGORIES:Community Events
END:VEVENT
BEGIN:VTIMEZONE
TZID:America/New_York
X-LIC-LOCATION:America/New_York
BEGIN:DAYLIGHT
DTSTART:20260308T030000
TZOFFSETFROM:-0500
TZOFFSETTO:-0400
TZNAME:EDT
END:DAYLIGHT
END:VTIMEZONE
END:VCALENDAR