BEGIN:VCALENDAR
VERSION:2.0
PRODID:-//wp-events-plugin.com//7.2.3.1//EN
TZID:America/New_York
X-WR-TIMEZONE:America/New_York
BEGIN:VEVENT
UID:272@hummingbirdhealingcollective.com
DTSTART;TZID=America/New_York:20260531T180000
DTEND;TZID=America/New_York:20260531T193000
DTSTAMP:20260417T160758Z
URL:https://hummingbirdhealingcollective.com/events/full-moon-healing-circ
 le-8/
SUMMARY:Full Moon Healing Circle
DESCRIPTION:Come join us in sacred ceremony and harness the potent energy o
 f this month’s Full Moon. Full moons are an energetic window of opportun
 ity that can assist you in reviewing patterns\, stories and emotions that 
 may no longer be serving you so that you can release and create space for 
 what does align with your desires and greatest good.\nDuring this event\, 
 Krista will offer insight and healing medicine that will ignite your relat
 ionship with your own body’s wisdom and power so that you can create the
  life you desire from a place of awareness and empowered choice. She will 
 lead the participants in a sharing circle\, ritual\, brief conversation ab
 out how you can utilize the current energies for your own growth and trans
 formation\, guided meditation\, and vocal sound healing. Together you will
  weave intentions to co-create an energy circle for healing and transforma
 tion.\n* Important Notes\n\n\n 	This circle is inclusive of all genders.\n
  	In order to protect the safety and integrity of our circle\, this is a 1
 00% sober space. Please arrive sober (from any and all substances) and sta
 y sober throughout the event.\n\n*Please bring the following items with yo
 u to this event:\n\n\n 	Yoga Mat\n 	Pillow\n 	Blanket\n 	Water Bottle\n 	J
 ournal\n 	Writing Utensil\n 	Your own mug for tea\n 	A Natural Object (tha
 t you will give as an offering to the Moon and the Earth)\n 	A Sacred Obje
 ct (that you will return home with you)\n\nThere are only 15 spots availab
 le for this event\, so please register in advance to secure your place.
ATTACH;FMTTYPE=image/jpeg:https://hummingbirdhealingcollective.com/wp-cont
 ent/uploads/2025/09/Full-Moon-Circle-Image-for-Website.jpg
CATEGORIES:Community Events
END:VEVENT
BEGIN:VTIMEZONE
TZID:America/New_York
X-LIC-LOCATION:America/New_York
BEGIN:DAYLIGHT
DTSTART:20260308T030000
TZOFFSETFROM:-0500
TZOFFSETTO:-0400
TZNAME:EDT
END:DAYLIGHT
END:VTIMEZONE
END:VCALENDAR