BEGIN:VCALENDAR
VERSION:2.0
PRODID:-//wp-events-plugin.com//7.2.3.1//EN
TZID:America/New_York
X-WR-TIMEZONE:America/New_York
BEGIN:VEVENT
UID:267@hummingbirdhealingcollective.com
DTSTART;TZID=America/New_York:20260531T150000
DTEND;TZID=America/New_York:20260531T163000
DTSTAMP:20260417T154107Z
URL:https://hummingbirdhealingcollective.com/events/herbal-alchemy-honeybe
 e-pleasure-medicine/
SUMMARY:Herbal Alchemy: Honeybee Pleasure Medicine
DESCRIPTION:\n\nFrolic in the nectar of the flowers and the wisdom of the h
 oneybee in this Herbal Alchemy medicine class\, Pleasure: Honeybee Medicin
 e. We'll cover the mysticism of the honeybee\, their dances\, and the many
  medicinal products of honey\, beeswax\, pollen\, and propolis that make t
 heir way into potent medical formulas. Then\, we'll get to crafting with t
 hese special bee products. Participants will leave with a greater understa
 nding of how to ally with the bees for healing in addition to their own cu
 stom-crafted medicines.\n\nHerbal Alchemy is an herbal medicine making cla
 ss series that channels deep reverence for the green world through practic
 al community-based medicine making from grown and foraged plants. Alyssa h
 as been practicing and teaching herbal medicine for the past 16 years and 
 has led community herbal medicine making programs at arboretums\, K-12 sch
 ools\, universities\, senior homes\, recovery homes\, and more.\n\n+\n\nPl
 ease bring a notebook\, a mug for herbal tea\, and whatever materials best
  support your comfort and learning.\n\nPlease register in advance through 
 the website and send the investment of $55 via Venmo to @Alyssa-Schimmel. 
 Please inform Alyssa of any allergies prior to class. Any questions can be
  directed to Alyssa at alyssa@enspiritinghealing.com.  \n\nMinimum sign-
 up of 3 to hold the class.\n\n
ATTACH;FMTTYPE=image/jpeg:https://hummingbirdhealingcollective.com/wp-cont
 ent/uploads/2026/04/HerbAl-Honey.jpg
CATEGORIES:Community Events
END:VEVENT
BEGIN:VTIMEZONE
TZID:America/New_York
X-LIC-LOCATION:America/New_York
BEGIN:DAYLIGHT
DTSTART:20260308T030000
TZOFFSETFROM:-0500
TZOFFSETTO:-0400
TZNAME:EDT
END:DAYLIGHT
END:VTIMEZONE
END:VCALENDAR