BEGIN:VCALENDAR
VERSION:2.0
PRODID:-//wp-events-plugin.com//7.2.3.1//EN
TZID:America/New_York
X-WR-TIMEZONE:America/New_York
BEGIN:VEVENT
UID:265@hummingbirdhealingcollective.com
DTSTART;TZID=America/New_York:20260517T160000
DTEND;TZID=America/New_York:20260517T173000
DTSTAMP:20260417T153405Z
URL:https://hummingbirdhealingcollective.com/events/journey-through-the-ps
 ychic-senses-smell/
SUMMARY:Journey through the Psychic Senses: Smell
DESCRIPTION:Learn the language of your intuition with this 8-class play-sho
 p series on the Psychic Senses! Classes will include information on the 'c
 lairs' -- the clear psychic and actual senses of touch\, taste\, smell\, s
 ight\, hearing\, feeling\, and knowing that we use in everyday life to kno
 w ourselves\, receive information from the unseen\, and come to know and r
 elay messages from those in Spirit. Each 1.5 hour class will include a uni
 que look at that particular 'sense\,' group practice exercises\, and take 
 home tips for strengthening and working with your personal embodied tool k
 it. Each class can be taken as an independent one-off but is best as a ful
 l experience. Come as you are -- ready to have fun and hone your antenna f
 or receiving information from within and the beyond!\n\nThis month's class
  will focus on HEARING.\n\nNext up: SMELL\, TASTE\, SIGHT\, FEELING\, KNOW
 ING\, PROPRIOCEPTION.\n\nAlyssa Schimmel of Enspiriting Healing &amp\; Rit
 ual Arts is an evidential medium and psychic who connects to the souls of 
 the living and deceased - bringing through detailed\, evidence-based infor
 mation that opens up the door to connection\, healing\, guidance and suppo
 rt. She believes all of us have these capabilities -- and it's through pra
 ctice\, we can empower and strengthen our inner knowing to live an aligned
 \, inspired\, and guided life!\n\nPlease pre-register to show your intenti
 on of attending through the website and pre-pay $40 to Venmo @Alyssa-Schim
 mel or pay by cash at the door.\n\nMinimum sign-up of 3 to hold the class.
  Walk-ins welcome.
ATTACH;FMTTYPE=image/jpeg:https://hummingbirdhealingcollective.com/wp-cont
 ent/uploads/2026/02/JOURNEY-PSY-SENSES.png
CATEGORIES:Community Events
END:VEVENT
BEGIN:VTIMEZONE
TZID:America/New_York
X-LIC-LOCATION:America/New_York
BEGIN:DAYLIGHT
DTSTART:20260308T030000
TZOFFSETFROM:-0500
TZOFFSETTO:-0400
TZNAME:EDT
END:DAYLIGHT
END:VTIMEZONE
END:VCALENDAR