BEGIN:VCALENDAR
VERSION:2.0
PRODID:-//wp-events-plugin.com//7.2.3.1//EN
TZID:America/New_York
X-WR-TIMEZONE:America/New_York
BEGIN:VEVENT
UID:275@hummingbirdhealingcollective.com
DTSTART;TZID=America/New_York:20260507T100000
DTEND;TZID=America/New_York:20260507T110000
DTSTAMP:20260417T171734Z
URL:https://hummingbirdhealingcollective.com/events/nervous-system-reset-s
 ound-healing/
SUMMARY:Nervous System Reset + Sound Healing
DESCRIPTION:This class is designed to teach you ways to make contact with y
 our body and nervous system\, and guide you out of a state of stress and i
 nto a calmer\, more-regulated state. This class series will be a blend of 
 guided meditation\, embodiment practices\, awareness techniques\, breathwo
 rk\, sound therapy\, and nature connection. Each week\, Krista will guide 
 you through a practice where you learn different techniques so that you fe
 el empowered to continue to nurture your nervous system at home. An extra 
 bonus is that you can use them to co-regulate with your children\, partner
 s and other family members too!\n\nThis class is for anyone who is feeling
  exhausted\, stressed\, burnt out\, anxious\, overstimulated\, overwhelmed
 \, or simply craving rest and ease. No experience is needed to participate
  in this class.\n\nKrista is a yoga teacher\, a Niasziih Healing and Bodyw
 ork Practitioner\, and a Vocal Sound Healer passionate about guiding us ba
 ck home to our bodies\, each other\, the Earth and Spirit through sound\, 
 movement and contact.\n\nPlease bring a yoga mat\, water bottle\, journal 
 and writing utensil to this class.\n\nThere are only 10 spots available fo
 r this event so be sure to register in advance to secure your place.
ATTACH;FMTTYPE=image/jpeg:https://hummingbirdhealingcollective.com/wp-cont
 ent/uploads/2026/01/Nervous-System-Reset-Image-for-Website.png
CATEGORIES:Community Events
END:VEVENT
BEGIN:VTIMEZONE
TZID:America/New_York
X-LIC-LOCATION:America/New_York
BEGIN:DAYLIGHT
DTSTART:20260308T030000
TZOFFSETFROM:-0500
TZOFFSETTO:-0400
TZNAME:EDT
END:DAYLIGHT
END:VTIMEZONE
END:VCALENDAR