BEGIN:VCALENDAR
VERSION:2.0
PRODID:-//wp-events-plugin.com//7.2.3.1//EN
TZID:America/New_York
X-WR-TIMEZONE:America/New_York
BEGIN:VEVENT
UID:268@hummingbirdhealingcollective.com
DTSTART;TZID=America/New_York:20260514T180000
DTEND;TZID=America/New_York:20260514T193000
DTSTAMP:20260417T154648Z
URL:https://hummingbirdhealingcollective.com/events/new-moon-manifestation
 -circle-2/
SUMMARY:New Moon Manifestation Circle
DESCRIPTION:Come join us in sacred ceremony and harness the potent energy o
 f this month’s New Moon. New moons are a beneficial time for inward refl
 ection\, planting seeds for future growth and personal development\, and a
 ligning with your deepest desires.\n\n&nbsp\;\n\nDuring this event\, Krist
 a will offer insight and healing medicine that will ignite your relationsh
 ip with your own body’s wisdom and power\, as well as your relationship 
 to others\, to Earth and to Spirit so that you can create the life you des
 ire from a place of awareness and empowered choice. She will lead the part
 icipants in a sharing circle\, ritual\, brief conversation about how you c
 an utilize the current energies for your own growth and transformation\, g
 uided meditation\, and vocal sound healing. Together you will weave intent
 ions to co-create an energy circle for healing and manifestation.\n\n&nbsp
 \;\n\nKrista is a teacher\, Niasziih Healing and Bodywork Practitioner\, S
 ound Healer and the creator of Awaikin\, which means "I am\, You are\, We 
 are." Krista is passionate about guiding us home to our bodies\, each othe
 r\, the Earth and Spirit through sound\, movement\, contact\, and healing 
 work. Krista's vision of healing and unity for our world is deeply rooted 
 in her love for humanity\, her care for the earth\, and her devotion to th
 e wisdom and medicine of the Earth Mother\, Divine Feminine and the New Ea
 rth\, which channels through her during this group experience.\n\n&nbsp\;\
 n\n*Important Notes About This Event:\n\n1.) This circle is inclusive of a
 ll genders.\n\n2.) In order to protect the safety and integrity of our cir
 cle\, this is also a 100% sober space. Please arrive sober (from any and a
 ll substances) and stay sober throughout the event.\n\n3.) Please bring th
 e following items with you to this event: yoga mat\, water bottle\, journa
 l\, writing utensil\, a natural object (that you will give as an offering 
 to the Moon and the Earth)\, a sacred object (that you will return home wi
 th you)\n\n&nbsp\;\n\nThere are only 15 spots available for this event so 
 please register in advance to secure your place.
ATTACH;FMTTYPE=image/jpeg:https://hummingbirdhealingcollective.com/wp-cont
 ent/uploads/2025/09/New-Moon-Circle-Image-for-Website.jpg
CATEGORIES:Community Events
END:VEVENT
BEGIN:VTIMEZONE
TZID:America/New_York
X-LIC-LOCATION:America/New_York
BEGIN:DAYLIGHT
DTSTART:20260308T030000
TZOFFSETFROM:-0500
TZOFFSETTO:-0400
TZNAME:EDT
END:DAYLIGHT
END:VTIMEZONE
END:VCALENDAR