BEGIN:VCALENDAR
VERSION:2.0
PRODID:-//wp-events-plugin.com//7.2.3.1//EN
TZID:America/New_York
X-WR-TIMEZONE:America/New_York
BEGIN:VEVENT
UID:273@hummingbirdhealingcollective.com
DTSTART;TZID=America/New_York:20260531T103000
DTEND;TZID=America/New_York:20260531T133000
DTSTAMP:20260417T163012Z
URL:https://hummingbirdhealingcollective.com/events/once-in-a-blue-moon-in
 tuitive-readings/
SUMMARY:Once in a Blue Moon Intuitive Readings
DESCRIPTION:This “once in a blue moon” event honors the powerful full m
 oon energy of the Blue Moon occurring on May 31\, 2026. Book your slot fro
 m 10:30 a.m. to 1:30 p.m. with Chelly to receive guidance in light of the
  full moon. Come as you are and leave with clarity!\n\nBook your private a
 ppointment now to reserve your time slot.
ATTACH;FMTTYPE=image/jpeg:https://hummingbirdhealingcollective.com/wp-cont
 ent/uploads/2026/04/intuitivereadings.png
CATEGORIES:Community Events
END:VEVENT
BEGIN:VTIMEZONE
TZID:America/New_York
X-LIC-LOCATION:America/New_York
BEGIN:DAYLIGHT
DTSTART:20260308T030000
TZOFFSETFROM:-0500
TZOFFSETTO:-0400
TZNAME:EDT
END:DAYLIGHT
END:VTIMEZONE
END:VCALENDAR