BEGIN:VCALENDAR
VERSION:2.0
PRODID:-//wp-events-plugin.com//7.2.3.1//EN
TZID:America/New_York
X-WR-TIMEZONE:America/New_York
BEGIN:VEVENT
UID:270@hummingbirdhealingcollective.com
DTSTART;TZID=America/New_York:20260522T180000
DTEND;TZID=America/New_York:20260522T193000
DTSTAMP:20260417T160150Z
URL:https://hummingbirdhealingcollective.com/events/sound-healing-4/
SUMMARY:Sound Healing
DESCRIPTION:Come rest\, receive\, and connect to the magnificence of your b
 eing through this unique sound healing experience.\n\n&nbsp\;\n\nDuring th
 is event\, Krista will lead the participants in a sharing circle\, guided 
 meditation\, chakra cleansing and use her voice to guide the participants 
 through an earthy and ethereal sound healing experience.\n\n&nbsp\;\n\nPle
 ase note that this is not your typical sound healing with bowls.\n\n&nbsp\
 ;\n\nThis is a sacred invitation to deepen your relationship with your inn
 er earth\, to connect with the rhythm and vibrations of your being\, and t
 o remember the song of your soul. This is a beautiful opportunity for deep
  rest\, healing and transformation.\n\n&nbsp\;\n\nKrista is a teacher\, Ni
 asziih Healing and Bodywork Practitioner and the creator of Awaikin\, whic
 h means "I am\, You are\, We are." Krista is passionate about guiding us h
 ome to our bodies\, each other\, the Earth and Spirit through sound\, move
 ment\, contact and healing work. Krista's vision of healing and unity for 
 our world is deeply rooted in her love for humanity\, her care for the ear
 th\, and her devotion to the wisdom and medicine of the Earth Mother\, Div
 ine Feminine and the New Earth\, which channels through her during this gr
 oup experience.\n\n&nbsp\;\n\n*Important Notes About This Event:\n\n1.) Pa
 rticipants they lay comfortably on the floor during this event.\n\n2.) Thi
 s event is inclusive of all genders.\n\n3.) In order to protect the safety
  and integrity of our circle\, this is also a 100% sober space. Please arr
 ive sober (from any and all substances) and stay sober throughout the even
 t.\n\n4.) Please bring the following items with you to this event: yoga ma
 t\, pillow\, water bottle\, journal\, and writing utensil.\n\n&nbsp\;\n\nT
 here are only 10 spots available for this event\, so please register in ad
 vance to secure your place.
ATTACH;FMTTYPE=image/jpeg:https://hummingbirdhealingcollective.com/wp-cont
 ent/uploads/2026/03/Sound-Healing-Image-for-Website-2.png
CATEGORIES:Community Events
END:VEVENT
BEGIN:VTIMEZONE
TZID:America/New_York
X-LIC-LOCATION:America/New_York
BEGIN:DAYLIGHT
DTSTART:20260308T030000
TZOFFSETFROM:-0500
TZOFFSETTO:-0400
TZNAME:EDT
END:DAYLIGHT
END:VTIMEZONE
END:VCALENDAR