BEGIN:VCALENDAR
VERSION:2.0
PRODID:-//wp-events-plugin.com//7.2.3.1//EN
TZID:America/New_York
X-WR-TIMEZONE:America/New_York
BEGIN:VEVENT
UID:266@hummingbirdhealingcollective.com
DTSTART;TZID=America/New_York:20260508T190000
DTEND;TZID=America/New_York:20260508T203000
DTSTAMP:20260417T153503Z
URL:https://hummingbirdhealingcollective.com/events/spirit-speaks-mediumsh
 ip-circle-4/
SUMMARY:Spirit Speaks: Mediumship Circle
DESCRIPTION:Join us for a many-centuries' old healing practice of mediumshi
 p -- where we'll explore the language of intuition\, practice speaking wit
 h spirit (those who've passed on)\, and build bridges of connection from t
 his world to the next! We'll meet monthly to practice mediumship from a ra
 nge of cross-cultural traditions. We welcome all levels of experience. Eac
 h circle will begin with intention setting\, an overview of circle structu
 re\, and various guided meditation practices. Then\, we'll open the circle
  for attendees to share their impressions. We hold this space lovingly and
  with affirmation for wherever you are in your practice\; share at your ow
 n pace and readiness! Join us for the healing\, guidance\, and love that f
 lows between worlds. We're honored to have you join us in this supportive 
 community!\n\n\nFacilitated by evidential medium Alyssa Schimmel of Enspir
 iting Healing &amp\; Ritual Arts\, mediumship circles offer attendees the 
 sacred space to develop their intuition to feel and communicate with spiri
 t. Learn how spirit works to connect to us through our senses and inner kn
 owing for the sake of communicating their love\, eternal support\, and gui
 dance. Alyssa has been a practicing medium for five years and teaches and 
 mentors in intuitive skill development.\n\n\n Register to show your inten
 tion of attending through the website. $25 by cash or venmo to @Alyssa-Sc
 himmel
ATTACH;FMTTYPE=image/jpeg:https://hummingbirdhealingcollective.com/wp-cont
 ent/uploads/2025/10/candles-.jpeg
CATEGORIES:Community Events
END:VEVENT
BEGIN:VTIMEZONE
TZID:America/New_York
X-LIC-LOCATION:America/New_York
BEGIN:DAYLIGHT
DTSTART:20260308T030000
TZOFFSETFROM:-0500
TZOFFSETTO:-0400
TZNAME:EDT
END:DAYLIGHT
END:VTIMEZONE
END:VCALENDAR